BEGIN:VCALENDAR
VERSION:2.0
PRODID:-//Country Music Magazine - ECPv6.15.15//NONSGML v1.0//EN
CALSCALE:GREGORIAN
METHOD:PUBLISH
X-WR-CALNAME:Country Music Magazine
X-ORIGINAL-URL:https://countrymusicmagazine.com
X-WR-CALDESC:Events for Country Music Magazine
REFRESH-INTERVAL;VALUE=DURATION:PT1H
X-Robots-Tag:noindex
X-PUBLISHED-TTL:PT1H
BEGIN:VTIMEZONE
TZID:UTC
BEGIN:STANDARD
TZOFFSETFROM:+0000
TZOFFSETTO:+0000
TZNAME:UTC
DTSTART:20240101T000000
END:STANDARD
END:VTIMEZONE
BEGIN:VEVENT
DTSTART;TZID=UTC:20251002T190000
DTEND;TZID=UTC:20251002T233000
DTSTAMP:20260420T124756
CREATED:20250326T210448Z
LAST-MODIFIED:20250519T185313Z
UID:333-1759431600-1759447800@countrymusicmagazine.com
SUMMARY:Lainey Wilson
DESCRIPTION:Lainey Wilson – Whirlwind World Tour with Special Guests: Muscadine Bloodline and Maddox Batson \n\n\n\n\n\n\n\n\n\nLainey Wilson’s standout year includes a Grammy nomination for Best Country Album for Whirlwind\, which debuted at #8 on the Billboard 200. The album features her Top 5 single “4x4xU\,” set to be her eighth #1 hit. Recently\, Wilson was inducted into the Grand Ole Opry\, performed at the Dallas Cowboys’ Thanksgiving Halftime Show\, and won multiple awards\, including Best Country Album at the 2024 Grammys and three ACM Awards. A successful songwriter with seven #1 hits\, including “Heart Like A Truck\,” she has collaborated with artists like Post Malone\, Cole Swindell\, and HARDY. Wilson also made her acting debut in Yellowstone and wrote “Out of Oklahoma” for Twisters. \n\n\n\n\n\n\n\n\n\n\n\n\n\n\n\n\n 
URL:https://countrymusicmagazine.com/event/lainey-wilson/
LOCATION:Bridgestone Arena\, 501 Broadway\, Nashville\, TN\, 37203\, United States
END:VEVENT
BEGIN:VEVENT
DTSTART;TZID=UTC:20251003T190000
DTEND;TZID=UTC:20251003T233000
DTSTAMP:20260420T124756
CREATED:20250728T220542Z
LAST-MODIFIED:20250728T220542Z
UID:567-1759518000-1759534200@countrymusicmagazine.com
SUMMARY:Lewis Brice
DESCRIPTION:With raw grit and heartfelt storytelling\, Lewis Brice brings his southern soul and lived-in truth to Chief’s on Broadway. Known for fan favorites like “Ordinary Girl\,” “Blessed\,” and “It’s You (I’ve Been Looking For)\,” Brice has surpassed 50 million streams\, earned industry accolades\, and shared stages with country heavyweights like Luke Bryan\, Dierks Bentley\, and Hank Williams Jr. Expect a night of soulful country anthems and stories inspired by a life lived full throttle. Doors open at 7:00 PM\, show starts at 8:00 PM.
URL:https://countrymusicmagazine.com/event/lewis-brice/
LOCATION:Chief’s on Broadway\, 200 Broadway\, Nashville\, TN\, 37201\, United States
END:VEVENT
BEGIN:VEVENT
DTSTART;TZID=UTC:20251007T200000
DTEND;TZID=UTC:20251007T233000
DTSTAMP:20260420T124756
CREATED:20250728T220720Z
LAST-MODIFIED:20250728T220720Z
UID:569-1759867200-1759879800@countrymusicmagazine.com
SUMMARY:Suzy Bogguss
DESCRIPTION:Join us at Chief’s on Broadway for an evening with country music legend Suzy Bogguss. Rising to fame during the 1990s country boom\, Suzy sold over 4 million albums with hits like “Outbound Plane\,” “Someday Soon\,” and “Hey Cinderella.” But her artistry goes beyond country—she’s recorded duets with Chet Atkins\, earned a Grammy for Beautiful Dreamer: The Songs of Stephen Foster\, and released acclaimed folk and Americana albums. Whether on her own or touring with “Chicks With Hits” and Kathy Mattea\, Suzy’s crystal-clear vocals and heartfelt storytelling continue to captivate audiences worldwide. Doors open at 7:00 PM\, show starts at 8:00 PM.
URL:https://countrymusicmagazine.com/event/suzy-bogguss/
LOCATION:Chief’s on Broadway\, 200 Broadway\, Nashville\, TN\, 37201\, United States
END:VEVENT
BEGIN:VEVENT
DTSTART;TZID=UTC:20251017T190000
DTEND;TZID=UTC:20251017T233000
DTSTAMP:20260420T124756
CREATED:20250326T210855Z
LAST-MODIFIED:20250519T185255Z
UID:337-1760727600-1760743800@countrymusicmagazine.com
SUMMARY:Keith Urban
DESCRIPTION:Keith Urban: HIGH AND ALIVE WORLD TOUR with special guests Chase Matthew\, Alana Springsteen and Karley Scott Collins \n\n\n\n\n\n\n\n\n\nKeith Urban’s live shows are known for their high-energy\, world-class musicianship\, and strong connection with fans. After a three-year break\, he’ll launch his HIGH AND ALIVE WORLD TOUR on May 22nd in Alabama\, featuring hits like “Blue Ain’t Your Color” and new songs from his album HIGH. The tour kicks off with special guests Chase Matthew\, Alana Springsteen\, and Karley Scott Collins. Urban promises an unforgettable\, celebratory experience for all.
URL:https://countrymusicmagazine.com/event/keith-urban/
LOCATION:Bridgestone Arena\, 501 Broadway\, Nashville\, TN\, 37203\, United States
END:VEVENT
END:VCALENDAR