BEGIN:VCALENDAR
VERSION:2.0
PRODID:-//Country Music Magazine - ECPv6.15.15//NONSGML v1.0//EN
CALSCALE:GREGORIAN
METHOD:PUBLISH
X-WR-CALNAME:Country Music Magazine
X-ORIGINAL-URL:https://countrymusicmagazine.com
X-WR-CALDESC:Events for Country Music Magazine
REFRESH-INTERVAL;VALUE=DURATION:PT1H
X-Robots-Tag:noindex
X-PUBLISHED-TTL:PT1H
BEGIN:VTIMEZONE
TZID:UTC
BEGIN:STANDARD
TZOFFSETFROM:+0000
TZOFFSETTO:+0000
TZNAME:UTC
DTSTART:20240101T000000
END:STANDARD
END:VTIMEZONE
BEGIN:VEVENT
DTSTART;TZID=UTC:20250909T200000
DTEND;TZID=UTC:20250909T233000
DTSTAMP:20260420T155317
CREATED:20250609T225926Z
LAST-MODIFIED:20250609T225926Z
UID:440-1757448000-1757460600@countrymusicmagazine.com
SUMMARY:Dwight Yoakam with Shooter Jennings & Ben Haggard
DESCRIPTION:Dwight Yoakam with Shooter Jennings & Ben Haggard – September 9\, 2025Country legend Dwight Yoakam takes the stage at Ascend Amphitheater alongside Shooter Jennings and Ben Haggard for a night of timeless twang\, outlaw edge\, and classic country under the Nashville sky. All ages\, rain or shine.
URL:https://countrymusicmagazine.com/event/dwight-yoakam-with-shooter-jennings-ben-haggard/
LOCATION:Ascend Ampitheater\, 310 1st Ave S\, Nashville\, TN\, 37201\, United States
END:VEVENT
END:VCALENDAR