BEGIN:VCALENDAR
VERSION:2.0
PRODID:-//Country Music Magazine - ECPv6.15.15//NONSGML v1.0//EN
CALSCALE:GREGORIAN
METHOD:PUBLISH
X-WR-CALNAME:Country Music Magazine
X-ORIGINAL-URL:https://countrymusicmagazine.com
X-WR-CALDESC:Events for Country Music Magazine
REFRESH-INTERVAL;VALUE=DURATION:PT1H
X-Robots-Tag:noindex
X-PUBLISHED-TTL:PT1H
BEGIN:VTIMEZONE
TZID:UTC
BEGIN:STANDARD
TZOFFSETFROM:+0000
TZOFFSETTO:+0000
TZNAME:UTC
DTSTART:20240101T000000
END:STANDARD
END:VTIMEZONE
BEGIN:VEVENT
DTSTART;TZID=UTC:20250828T200000
DTEND;TZID=UTC:20250828T233000
DTSTAMP:20260420T172010
CREATED:20250728T215651Z
LAST-MODIFIED:20250728T215651Z
UID:559-1756411200-1756423800@countrymusicmagazine.com
SUMMARY:The Warren Brothers
DESCRIPTION:Catch Brett and Brad Warren\, the award-winning duo behind nine #1 hits and three acclaimed albums\, as they bring their signature blend of wit\, stories\, and country songwriting magic to the stage. Doors open at 6:30 PM\, show starts at 8:00 PM.
URL:https://countrymusicmagazine.com/event/the-warren-brothers/
LOCATION:Chief’s on Broadway\, 200 Broadway\, Nashville\, TN\, 37201\, United States
END:VEVENT
END:VCALENDAR