BEGIN:VCALENDAR
VERSION:2.0
PRODID:-//Country Music Magazine - ECPv6.15.15//NONSGML v1.0//EN
CALSCALE:GREGORIAN
METHOD:PUBLISH
X-ORIGINAL-URL:https://countrymusicmagazine.com
X-WR-CALDESC:Events for Country Music Magazine
REFRESH-INTERVAL;VALUE=DURATION:PT1H
X-Robots-Tag:noindex
X-PUBLISHED-TTL:PT1H
BEGIN:VTIMEZONE
TZID:UTC
BEGIN:STANDARD
TZOFFSETFROM:+0000
TZOFFSETTO:+0000
TZNAME:UTC
DTSTART:20240101T000000
END:STANDARD
END:VTIMEZONE
BEGIN:VEVENT
DTSTART;TZID=UTC:20250823T200000
DTEND;TZID=UTC:20250823T233000
DTSTAMP:20260420T172724
CREATED:20250728T215453Z
LAST-MODIFIED:20250728T215453Z
UID:557-1755979200-1755991800@countrymusicmagazine.com
SUMMARY:Sammy Sadler & Dave Gibson – The Hits & History Tour
DESCRIPTION:Experience a night of stories and songs as Sammy Sadler and Dave Gibson bring their Hits & History Tour to The Neon Steeple. Sadler\, a survivor of the infamous “Murder on Music Row” tragedy\, returns with his signature voice and chart-topping hits\, while acclaimed songwriter Gibson—known for classics like Alabama’s “Jukebox in My Mind” and Confederate Railroad’s “Queen of Memphis”—shares the songs and stories that shaped his legendary career. Doors open at 6:30 PM\, show starts at 8:00 PM.
URL:https://countrymusicmagazine.com/event/sammy-sadler-dave-gibson-the-hits-history-tour/
LOCATION:Chief’s on Broadway\, 200 Broadway\, Nashville\, TN\, 37201\, United States
END:VEVENT
BEGIN:VEVENT
DTSTART;TZID=UTC:20250823T210000
DTEND;TZID=UTC:20250823T233000
DTSTAMP:20260420T172724
CREATED:20250728T205200Z
LAST-MODIFIED:20250728T205200Z
UID:544-1755982800-1755991800@countrymusicmagazine.com
SUMMARY:An Evening with Kent Blazy & the 4Peace Band
DESCRIPTION:Legendary Nashville songwriter Kent Blazy\, best known for co-writing Garth Brooks’ first No. 1 hit “If Tomorrow Never Comes” and multiple chart-toppers\, takes the Bluebird Café stage with the 4Peace Band. Enjoy an intimate night of stories and music from one of country’s most celebrated songwriters. Show starts at 9:00 PM (doors at 8:30 PM). All ages.
URL:https://countrymusicmagazine.com/event/an-evening-with-kent-blazy-the-4peace-band/
LOCATION:Bluebird Cafe\, 4104 Hillsboro Pike\, Nashville\, TN\, 37215\, United States
END:VEVENT
END:VCALENDAR