BEGIN:VCALENDAR
VERSION:2.0
PRODID:-//Country Music Magazine - ECPv6.15.15//NONSGML v1.0//EN
CALSCALE:GREGORIAN
METHOD:PUBLISH
X-WR-CALNAME:Country Music Magazine
X-ORIGINAL-URL:https://countrymusicmagazine.com
X-WR-CALDESC:Events for Country Music Magazine
REFRESH-INTERVAL;VALUE=DURATION:PT1H
X-Robots-Tag:noindex
X-PUBLISHED-TTL:PT1H
BEGIN:VTIMEZONE
TZID:UTC
BEGIN:STANDARD
TZOFFSETFROM:+0000
TZOFFSETTO:+0000
TZNAME:UTC
DTSTART:20240101T000000
END:STANDARD
END:VTIMEZONE
BEGIN:VEVENT
DTSTART;TZID=UTC:20250820T200000
DTEND;TZID=UTC:20250820T233000
DTSTAMP:20260420T173238
CREATED:20250728T215338Z
LAST-MODIFIED:20250728T215338Z
UID:555-1755720000-1755732600@countrymusicmagazine.com
SUMMARY:Ashes & Arrows
DESCRIPTION:Hailing from Asheville\, North Carolina\, Ashes & Arrows bring their powerful three-part harmonies\, heartfelt songwriting\, and undeniable stage presence to Chief’s on Broadway. Known for their soaring vocals and tracks like “Gold in the Mountain\,” the trio blends influences from Jason Isbell\, NEEDTOBREATHE\, and Patrick Droney to create a sound that’s both fresh and timeless. Doors open at 6:30 PM\, show starts at 8:00 PM.
URL:https://countrymusicmagazine.com/event/ashes-arrows/
LOCATION:Chief’s on Broadway\, 200 Broadway\, Nashville\, TN\, 37201\, United States
END:VEVENT
END:VCALENDAR