BEGIN:VCALENDAR
VERSION:2.0
PRODID:-//Country Music Magazine - ECPv6.15.15//NONSGML v1.0//EN
CALSCALE:GREGORIAN
METHOD:PUBLISH
X-ORIGINAL-URL:https://countrymusicmagazine.com
X-WR-CALDESC:Events for Country Music Magazine
REFRESH-INTERVAL;VALUE=DURATION:PT1H
X-Robots-Tag:noindex
X-PUBLISHED-TTL:PT1H
BEGIN:VTIMEZONE
TZID:UTC
BEGIN:STANDARD
TZOFFSETFROM:+0000
TZOFFSETTO:+0000
TZNAME:UTC
DTSTART:20240101T000000
END:STANDARD
END:VTIMEZONE
BEGIN:VEVENT
DTSTART;VALUE=DATE:20250807
DTEND;VALUE=DATE:20250816
DTSTAMP:20260420T172329
CREATED:20250609T230810Z
LAST-MODIFIED:20250609T230810Z
UID:445-1754524800-1755302399@countrymusicmagazine.com
SUMMARY:Vince Gill
DESCRIPTION:Vince Gill – August 7–16\, 2025 · Ryman Auditorium \nCountry music royalty Vince Gill performs multiple nights at the historic Ryman with his signature heartfelt vocals and masterful guitar playing. \nAugust 7\, 8\, 9\, 15 & 16
URL:https://countrymusicmagazine.com/event/vince-gill/
LOCATION:Ryman Auditorium\, 116 5th Ave N.\, Nashville\, TN\, 37219\, United States
END:VEVENT
BEGIN:VEVENT
DTSTART;TZID=UTC:20250808T200000
DTEND;TZID=UTC:20250808T233000
DTSTAMP:20260420T172329
CREATED:20250728T215015Z
LAST-MODIFIED:20250728T215015Z
UID:548-1754683200-1754695800@countrymusicmagazine.com
SUMMARY:Adysen Malek Radio Launch Party
DESCRIPTION:Celebrate the launch of Adysen Malek Radio at Chief’s on Broadway with special guests Caryn Dixon and Jessica Nixon. Enjoy a night of soulful country performances from three rising artists making waves in Nashville’s music scene. Doors open at 7:00 PM\, show starts at 8:00 PM.
URL:https://countrymusicmagazine.com/event/adysen-malek-radio-launch-party/
LOCATION:Chief’s on Broadway\, 200 Broadway\, Nashville\, TN\, 37201\, United States
END:VEVENT
BEGIN:VEVENT
DTSTART;TZID=UTC:20250808T203000
DTEND;TZID=UTC:20250808T233000
DTSTAMP:20260420T172329
CREATED:20250728T204417Z
LAST-MODIFIED:20250728T204523Z
UID:536-1754685000-1754695800@countrymusicmagazine.com
SUMMARY:In The Round with Phil Barton\, Victoria Banks & Emily Shackelton – Friday\, August 8\, 2025 at 9:00 PM
DESCRIPTION:The Bluebird Café hosts an intimate “In The Round” performance featuring hit songwriters Phil Barton\, Victoria Banks\, and Emily Shackelton. Hear the stories and songs they’ve written for artists like Reba McEntire\, Carly Pearce\, and Lee Brice. Doors open at 8:30 PM; show begins at 9:00 PM.
URL:https://countrymusicmagazine.com/event/in-the-round-with-phil-barton-victoria-banks-emily-shackelton-friday-august-8-2025-at-900-pm/
LOCATION:Bluebird Cafe\, 4104 Hillsboro Pike\, Nashville\, TN\, 37215\, United States
END:VEVENT
END:VCALENDAR