BEGIN:VCALENDAR
VERSION:2.0
PRODID:-//Country Music Magazine - ECPv6.15.15//NONSGML v1.0//EN
CALSCALE:GREGORIAN
METHOD:PUBLISH
X-ORIGINAL-URL:https://countrymusicmagazine.com
X-WR-CALDESC:Events for Country Music Magazine
REFRESH-INTERVAL;VALUE=DURATION:PT1H
X-Robots-Tag:noindex
X-PUBLISHED-TTL:PT1H
BEGIN:VTIMEZONE
TZID:UTC
BEGIN:STANDARD
TZOFFSETFROM:+0000
TZOFFSETTO:+0000
TZNAME:UTC
DTSTART:20240101T000000
END:STANDARD
END:VTIMEZONE
BEGIN:VEVENT
DTSTART;TZID=UTC:20250803T160000
DTEND;TZID=UTC:20250803T180000
DTSTAMP:20260420T173609
CREATED:20250728T221324Z
LAST-MODIFIED:20250728T221920Z
UID:571-1754236800-1754244000@countrymusicmagazine.com
SUMMARY:Happy Hour feat. Mary Joy McDaniel
DESCRIPTION:Hatteras Island native Mary Joy McDaniel blends folk\, country\, and pop with heartfelt lyrics and strong songwriting influenced by Taylor Swift and Maren Morris. Catch her live at 4:00 PM at Front Cafe in Nashville\, TN\, delivering an authentic performance and a promising career ahead.
URL:https://countrymusicmagazine.com/event/happy-hour-feat-mary-joy-mcdaniel/
LOCATION:Listening Room Cafe\, 618 Fourth Ave S.\, Nashville\, TN\, 37210\, United States
END:VEVENT
BEGIN:VEVENT
DTSTART;TZID=UTC:20250803T180000
DTEND;TZID=UTC:20250803T233000
DTSTAMP:20260420T173609
CREATED:20250728T204720Z
LAST-MODIFIED:20250728T204720Z
UID:540-1754244000-1754263800@countrymusicmagazine.com
SUMMARY:Brittany Moore – August 3\, 2025
DESCRIPTION:Emerging country artist Brittany Moore brings her soulful vocals and signature songwriting to The Bluebird Café. Known for viral hits like “Ladies in the Church Choir” and “Jesus and Janis\,” Moore delivers a blend of heartfelt and quirky originals in Nashville’s most intimate listening room. Show starts at 6:00 PM (doors at 5:00 PM). All ages.
URL:https://countrymusicmagazine.com/event/brittany-moore-august-3-2025/
LOCATION:Bluebird Cafe\, 4104 Hillsboro Pike\, Nashville\, TN\, 37215\, United States
END:VEVENT
END:VCALENDAR