BEGIN:VCALENDAR
VERSION:2.0
PRODID:-//Country Music Magazine - ECPv6.15.15//NONSGML v1.0//EN
CALSCALE:GREGORIAN
METHOD:PUBLISH
X-WR-CALNAME:Country Music Magazine
X-ORIGINAL-URL:https://countrymusicmagazine.com
X-WR-CALDESC:Events for Country Music Magazine
REFRESH-INTERVAL;VALUE=DURATION:PT1H
X-Robots-Tag:noindex
X-PUBLISHED-TTL:PT1H
BEGIN:VTIMEZONE
TZID:UTC
BEGIN:STANDARD
TZOFFSETFROM:+0000
TZOFFSETTO:+0000
TZNAME:UTC
DTSTART:20240101T000000
END:STANDARD
END:VTIMEZONE
BEGIN:VEVENT
DTSTART;TZID=UTC:20250726T190000
DTEND;TZID=UTC:20250726T233000
DTSTAMP:20260420T191738
CREATED:20250609T225306Z
LAST-MODIFIED:20250609T225306Z
UID:433-1753556400-1753572600@countrymusicmagazine.com
SUMMARY:Brad Paisley
DESCRIPTION:Brad Paisley – July 26\, 2025 · 7:00 PM · J. Fred Johnson Stadium\, Kingsport\, TN\nCountry superstar Brad Paisley rolls into Kingsport for an evening of witty songs\, virtuosic guitar playing\, and crowd‑pleasing humor at the local stadium .
URL:https://countrymusicmagazine.com/event/brad-paisley/
LOCATION:J. Fred Johnson Stadium\, Indian Ct.\, Kingsport\, TN\, 37664\, United States
END:VEVENT
END:VCALENDAR