BEGIN:VCALENDAR
VERSION:2.0
PRODID:-//Country Music Magazine - ECPv6.15.15//NONSGML v1.0//EN
CALSCALE:GREGORIAN
METHOD:PUBLISH
X-ORIGINAL-URL:https://countrymusicmagazine.com
X-WR-CALDESC:Events for Country Music Magazine
REFRESH-INTERVAL;VALUE=DURATION:PT1H
X-Robots-Tag:noindex
X-PUBLISHED-TTL:PT1H
BEGIN:VTIMEZONE
TZID:UTC
BEGIN:STANDARD
TZOFFSETFROM:+0000
TZOFFSETTO:+0000
TZNAME:UTC
DTSTART:20240101T000000
END:STANDARD
END:VTIMEZONE
BEGIN:VEVENT
DTSTART;TZID=UTC:20250713T190000
DTEND;TZID=UTC:20250713T233000
DTSTAMP:20260420T192003
CREATED:20250609T224310Z
LAST-MODIFIED:20250609T224310Z
UID:426-1752433200-1752449400@countrymusicmagazine.com
SUMMARY:OPRY 100 – Bill Anderson\, ERNEST & Randy Houser
DESCRIPTION:Sunday\, July 13\, 2025 · 7:00 PM · Opry HouseHonoring 100 years of tradition\, the Opry 100 series brings together legends Bill Anderson\, breakthrough star ERNEST\, Randy Houser\, Jamey Johnson\, Ryan and Rory\, and others for a diverse\, milestone celebration
URL:https://countrymusicmagazine.com/event/opry-100-bill-anderson-ernest-randy-houser/
LOCATION:Opry House\, 600 Opry Mills Drive\, Nashville\, TN\, 37214\, United States
END:VEVENT
END:VCALENDAR