BEGIN:VCALENDAR
VERSION:2.0
PRODID:-//Country Music Magazine - ECPv6.15.15//NONSGML v1.0//EN
CALSCALE:GREGORIAN
METHOD:PUBLISH
X-WR-CALNAME:Country Music Magazine
X-ORIGINAL-URL:https://countrymusicmagazine.com
X-WR-CALDESC:Events for Country Music Magazine
REFRESH-INTERVAL;VALUE=DURATION:PT1H
X-Robots-Tag:noindex
X-PUBLISHED-TTL:PT1H
BEGIN:VTIMEZONE
TZID:UTC
BEGIN:STANDARD
TZOFFSETFROM:+0000
TZOFFSETTO:+0000
TZNAME:UTC
DTSTART:20240101T000000
END:STANDARD
END:VTIMEZONE
BEGIN:VEVENT
DTSTART;TZID=UTC:20250627T200000
DTEND;TZID=UTC:20250627T233000
DTSTAMP:20260420T205554
CREATED:20250609T222341Z
LAST-MODIFIED:20250609T222416Z
UID:415-1751054400-1751067000@countrymusicmagazine.com
SUMMARY:Montgomery Gentry
DESCRIPTION:Montgomery Gentry – Fri\, June 27 @ Country Tonite Theatre\, Pigeon ForgeBeloved duo Montgomery Gentry returns to spotlight their brand of hard-driving country in the heart of the Smokies
URL:https://countrymusicmagazine.com/event/montgomery-gentry/
LOCATION:Country Tonite Theatre\, 129 Showplace Blvd.\, Pigeon Forge\, TN\, 37863\, United States
END:VEVENT
END:VCALENDAR