BEGIN:VCALENDAR
VERSION:2.0
PRODID:-//Country Music Magazine - ECPv6.15.15//NONSGML v1.0//EN
CALSCALE:GREGORIAN
METHOD:PUBLISH
X-WR-CALNAME:Country Music Magazine
X-ORIGINAL-URL:https://countrymusicmagazine.com
X-WR-CALDESC:Events for Country Music Magazine
REFRESH-INTERVAL;VALUE=DURATION:PT1H
X-Robots-Tag:noindex
X-PUBLISHED-TTL:PT1H
BEGIN:VTIMEZONE
TZID:UTC
BEGIN:STANDARD
TZOFFSETFROM:+0000
TZOFFSETTO:+0000
TZNAME:UTC
DTSTART:20240101T000000
END:STANDARD
END:VTIMEZONE
BEGIN:VEVENT
DTSTART;TZID=UTC:20250625T153000
DTEND;TZID=UTC:20250625T233000
DTSTAMP:20260420T204627
CREATED:20250609T221828Z
LAST-MODIFIED:20250609T221828Z
UID:413-1750865400-1750894200@countrymusicmagazine.com
SUMMARY:Outlaw Music Festival Tour
DESCRIPTION:Outlaw Music Festival Tour – Wed\, June 25 @ FirstBank Amphitheater\, FranklinFeaturing heavyweights like Willie Nelson\, Bob Dylan\, and Nathaniel Rateliff & the Night Sweats\, this festival-style tour mixes country\, Americana\, and rock under one sky
URL:https://countrymusicmagazine.com/event/outlaw-music-festival-tour/
LOCATION:FirstBank Ampitheater\, 4525 Graystone Quarry Ln.\, Franklin\, TN\, 37064\, United States
END:VEVENT
END:VCALENDAR