BEGIN:VCALENDAR
VERSION:2.0
PRODID:-//Country Music Magazine - ECPv6.15.15//NONSGML v1.0//EN
CALSCALE:GREGORIAN
METHOD:PUBLISH
X-ORIGINAL-URL:https://countrymusicmagazine.com
X-WR-CALDESC:Events for Country Music Magazine
REFRESH-INTERVAL;VALUE=DURATION:PT1H
X-Robots-Tag:noindex
X-PUBLISHED-TTL:PT1H
BEGIN:VTIMEZONE
TZID:UTC
BEGIN:STANDARD
TZOFFSETFROM:+0000
TZOFFSETTO:+0000
TZNAME:UTC
DTSTART:20240101T000000
END:STANDARD
END:VTIMEZONE
BEGIN:VEVENT
DTSTART;TZID=UTC:20250622T193000
DTEND;TZID=UTC:20250622T233000
DTSTAMP:20260420T205109
CREATED:20250324T185949Z
LAST-MODIFIED:20250519T185329Z
UID:262-1750620600-1750635000@countrymusicmagazine.com
SUMMARY:Kacey Musgraves & Paul Stamets
DESCRIPTION:Kacey Musgraves & Paul Stamets perform at the Ryman Auditorium. \nJoin a live taping of the Sing For Science podcast\, featuring Grammy-winning artist and mycophile Kacey Musgraves alongside world-renowned fungi expert Paul Stamets. Together\, they’ll explore the fascinating world of psilocybin\, uncovering what gives “magic mushrooms” their magic. Learn how psilocybin is revolutionizing mental health care\, its extraordinary biology\, and its profound potential to change lives. Don’t miss this enlightening and unforgettable event at Ryman Auditorium! \n 
URL:https://countrymusicmagazine.com/event/kacey-musgraves-paul-stamets/
LOCATION:Ryman Auditorium\, 116 5th Ave N.\, Nashville\, TN\, 37219\, United States
END:VEVENT
END:VCALENDAR