BEGIN:VCALENDAR
VERSION:2.0
PRODID:-//Country Music Magazine - ECPv6.15.15//NONSGML v1.0//EN
CALSCALE:GREGORIAN
METHOD:PUBLISH
X-ORIGINAL-URL:https://countrymusicmagazine.com
X-WR-CALDESC:Events for Country Music Magazine
REFRESH-INTERVAL;VALUE=DURATION:PT1H
X-Robots-Tag:noindex
X-PUBLISHED-TTL:PT1H
BEGIN:VTIMEZONE
TZID:UTC
BEGIN:STANDARD
TZOFFSETFROM:+0000
TZOFFSETTO:+0000
TZNAME:UTC
DTSTART:20240101T000000
END:STANDARD
END:VTIMEZONE
BEGIN:VEVENT
DTSTART;VALUE=DATE:20250612
DTEND;VALUE=DATE:20250616
DTSTAMP:20260420T204929
CREATED:20250609T222916Z
LAST-MODIFIED:20250609T222916Z
UID:418-1749686400-1750031999@countrymusicmagazine.com
SUMMARY:Bonnaroo Music & Arts Festival
DESCRIPTION:Bonnaroo Music & Arts Festival – Thu–Sun\, June 12–15 @ Bonnaroo Farm\, ManchesterCountry heavyweight Luke Combs headlines alongside Olivia Rodrigo. The festival also features a diverse lineup across genres\, including dozens of country-adjacent acts
URL:https://countrymusicmagazine.com/event/bonnaroo-music-arts-festival/
LOCATION:Great Stage Park\, 1560 New Bushy Branch Rd.\, Manchester\, TN\, 37355\, United States
END:VEVENT
END:VCALENDAR