BEGIN:VCALENDAR
VERSION:2.0
PRODID:-//Country Music Magazine - ECPv6.15.15//NONSGML v1.0//EN
CALSCALE:GREGORIAN
METHOD:PUBLISH
X-WR-CALNAME:Country Music Magazine
X-ORIGINAL-URL:https://countrymusicmagazine.com
X-WR-CALDESC:Events for Country Music Magazine
REFRESH-INTERVAL;VALUE=DURATION:PT1H
X-Robots-Tag:noindex
X-PUBLISHED-TTL:PT1H
BEGIN:VTIMEZONE
TZID:UTC
BEGIN:STANDARD
TZOFFSETFROM:+0000
TZOFFSETTO:+0000
TZNAME:UTC
DTSTART:20240101T000000
END:STANDARD
END:VTIMEZONE
BEGIN:VEVENT
DTSTART;VALUE=DATE:20250605
DTEND;VALUE=DATE:20250609
DTSTAMP:20260420T204313
CREATED:20250326T212225Z
LAST-MODIFIED:20250519T185346Z
UID:340-1749081600-1749427199@countrymusicmagazine.com
SUMMARY:CMA Fest
DESCRIPTION:CMA Fest 2025\, presented by SoFi\, takes over downtown Nashville from June 5–8\, celebrating its 52nd year of connecting fans with Country Music artists. Get your four-night stadium passes and single-night tickets now at CMAfest.com before they sell out\, along with Fan Fair X tickets. The festival offers four days and nights of live music\, including all-star shows at Nissan Stadium and free concerts at stages throughout downtown Nashville. Over 200 artists\, including Jason Aldean\, Kelsea Ballerini\, Luke Bryan\, Blake Shelton\, and Keith Urban\, will perform to support the CMA Foundation’s mission of enriching music education. Enjoy free daytime concerts\, family-friendly activities\, and the Riverside Retreat with VIP access and exclusive amenities.
URL:https://countrymusicmagazine.com/event/cma-fest/
LOCATION:Nissan Stadium\, 1 Titans Way\, Nashville\, NV\, 37213\, United States
END:VEVENT
BEGIN:VEVENT
DTSTART;TZID=UTC:20250605T100000
DTEND;TZID=UTC:20250607T020000
DTSTAMP:20260420T204313
CREATED:20250521T221537Z
LAST-MODIFIED:20250521T221633Z
UID:401-1749117600-1749261600@countrymusicmagazine.com
SUMMARY:Spotify House Concert Ft. Keith Urban\, Kelsea Ballerini\, and more!
DESCRIPTION:Spotify House at Ole Red – June 5–7\, 2025 \nSpotify House returns to Ole Red for three jam-packed days of live country music during CMA Fest. From 10 a.m. to 2 a.m. daily\, fans can catch performances from over 60 artists including Keith Urban\, Lainey Wilson\, Kelsea Ballerini\, and Brothers Osborne—plus surprise guests! Free and open to the public\, entry is first-come\, first-served. Ages 21+ after 9 p.m.📍 Ole Red\, 300 Broadway\, Nashville
URL:https://countrymusicmagazine.com/event/spotify-house-concert-ft-keith-urban-kelsea-ballerini-and-more/
LOCATION:Ole Red\, 300 Broadway\, Nashville\, TN\, 37201\, United States
END:VEVENT
END:VCALENDAR