BEGIN:VCALENDAR
VERSION:2.0
PRODID:-//Country Music Magazine - ECPv6.15.15//NONSGML v1.0//EN
CALSCALE:GREGORIAN
METHOD:PUBLISH
X-WR-CALNAME:Country Music Magazine
X-ORIGINAL-URL:https://countrymusicmagazine.com
X-WR-CALDESC:Events for Country Music Magazine
REFRESH-INTERVAL;VALUE=DURATION:PT1H
X-Robots-Tag:noindex
X-PUBLISHED-TTL:PT1H
BEGIN:VTIMEZONE
TZID:UTC
BEGIN:STANDARD
TZOFFSETFROM:+0000
TZOFFSETTO:+0000
TZNAME:UTC
DTSTART:20240101T000000
END:STANDARD
END:VTIMEZONE
BEGIN:VEVENT
DTSTART;VALUE=DATE:20250529
DTEND;VALUE=DATE:20250601
DTSTAMP:20260420T204339
CREATED:20250519T184711Z
LAST-MODIFIED:20250519T185407Z
UID:391-1748476800-1748735999@countrymusicmagazine.com
SUMMARY:Music City Rodeo
DESCRIPTION:Music City Rodeo – May 29–31\, 2025Bridgestone Arena hosts the inaugural Music City Rodeo\, a three-day PRCA event packed with bull riding\, barrel racing\, and live music. Reba McEntire\, Jelly Roll\, and Tim McGraw each headline one night of unforgettable country performances following the rodeo action. A portion of proceeds benefits Monroe Carell Jr. Children’s Hospital.
URL:https://countrymusicmagazine.com/event/music-city-rodeo/
LOCATION:Bridgestone Arena\, 501 Broadway\, Nashville\, TN\, 37203\, United States
END:VEVENT
END:VCALENDAR