BEGIN:VCALENDAR
VERSION:2.0
PRODID:-//Country Music Magazine - ECPv6.15.15//NONSGML v1.0//EN
CALSCALE:GREGORIAN
METHOD:PUBLISH
X-WR-CALNAME:Country Music Magazine
X-ORIGINAL-URL:https://countrymusicmagazine.com
X-WR-CALDESC:Events for Country Music Magazine
REFRESH-INTERVAL;VALUE=DURATION:PT1H
X-Robots-Tag:noindex
X-PUBLISHED-TTL:PT1H
BEGIN:VTIMEZONE
TZID:UTC
BEGIN:STANDARD
TZOFFSETFROM:+0000
TZOFFSETTO:+0000
TZNAME:UTC
DTSTART:20240101T000000
END:STANDARD
END:VTIMEZONE
BEGIN:VEVENT
DTSTART;VALUE=DATE:20250523
DTEND;VALUE=DATE:20250525
DTSTAMP:20260420T222928
CREATED:20250519T183937Z
LAST-MODIFIED:20250519T185423Z
UID:388-1747958400-1748131199@countrymusicmagazine.com
SUMMARY:Eric Church
DESCRIPTION:Eric Church at The Pinnacle – May 23–24Country music rebel Eric Church brings his gritty\, high-octane hits to The Pinnacle for two unforgettable nights of raw energy and rock-infused Southern anthems.
URL:https://countrymusicmagazine.com/event/eric-church/
LOCATION:The Pinnacle\, 910 Exchange Ln.\, Nashville\, TN\, 37203\, United States
END:VEVENT
END:VCALENDAR