BEGIN:VCALENDAR
VERSION:2.0
PRODID:-//Country Music Magazine - ECPv6.15.15//NONSGML v1.0//EN
CALSCALE:GREGORIAN
METHOD:PUBLISH
X-WR-CALNAME:Country Music Magazine
X-ORIGINAL-URL:https://countrymusicmagazine.com
X-WR-CALDESC:Events for Country Music Magazine
REFRESH-INTERVAL;VALUE=DURATION:PT1H
X-Robots-Tag:noindex
X-PUBLISHED-TTL:PT1H
BEGIN:VTIMEZONE
TZID:UTC
BEGIN:STANDARD
TZOFFSETFROM:+0000
TZOFFSETTO:+0000
TZNAME:UTC
DTSTART:20240101T000000
END:STANDARD
END:VTIMEZONE
BEGIN:VEVENT
DTSTART;TZID=UTC:20250518T193000
DTEND;TZID=UTC:20250518T233000
DTSTAMP:20260420T223013
CREATED:20250324T190148Z
LAST-MODIFIED:20250326T184654Z
UID:264-1747596600-1747611000@countrymusicmagazine.com
SUMMARY:Tracy Lawrence
DESCRIPTION:Tracy Lawrence performs at Ryman Auditorium. \nTracy Lawrence\, with 13M albums sold and 18 No.1 singles\, has been a Country music icon for over 30 years. A CMA and ACM award winner\, he’s also a radio host and philanthropist. His “Honky Tonkin’” show airs in 170+ markets\, and his “TL’s Road House” podcast features artists like HARDY and Jelly Roll. \nLawrence’s recent releases include Out Here In It EP\, following his Hindsight 2020 albums. He’s also dedicated to charity through his Mission: Possible nonprofit\, raising over $1M for the homeless. In 2023\, he earned the CRS Humanitarian Award.
URL:https://countrymusicmagazine.com/event/tracy-lawrence/
LOCATION:Ryman Auditorium\, 116 5th Ave N.\, Nashville\, TN\, 37219\, United States
ATTACH;FMTTYPE=image/png:https://countrymusicmagazine.com/wp-content/uploads/2025/03/qlcj68ip.png
END:VEVENT
END:VCALENDAR